BEGIN:VCALENDAR
VERSION:2.0
PRODID:-//Bohème &amp; Coquelicot - ECPv6.9.1//NONSGML v1.0//EN
CALSCALE:GREGORIAN
METHOD:PUBLISH
X-WR-CALNAME:Bohème &amp; Coquelicot
X-ORIGINAL-URL:https://bohemeetcoquelicot.fr
X-WR-CALDESC:Events for Bohème &amp; Coquelicot
REFRESH-INTERVAL;VALUE=DURATION:PT1H
X-Robots-Tag:noindex
X-PUBLISHED-TTL:PT1H
BEGIN:VTIMEZONE
TZID:Europe/Paris
BEGIN:DAYLIGHT
TZOFFSETFROM:+0100
TZOFFSETTO:+0200
TZNAME:CEST
DTSTART:20250330T010000
END:DAYLIGHT
BEGIN:STANDARD
TZOFFSETFROM:+0200
TZOFFSETTO:+0100
TZNAME:CET
DTSTART:20251026T010000
END:STANDARD
END:VTIMEZONE
BEGIN:VEVENT
DTSTART;TZID=Europe/Paris:20250203T100000
DTEND;TZID=Europe/Paris:20250203T120000
DTSTAMP:20260425T015859
CREATED:20250128T081322Z
LAST-MODIFIED:20250128T081322Z
UID:1523-1738576800-1738584000@bohemeetcoquelicot.fr
SUMMARY:Atelier Massage 01
DESCRIPTION:Post emensos insuperabilis expéditionis eventus languentibus partium animis\, quas periculorum varietas fregerat et laborum\, nondum tubarum cessante clangore vel milite locato per stationes hibernas\, fortunae saevientis procellae
URL:https://bohemeetcoquelicot.fr/agenda/atelier-massage-01/
LOCATION:Bohème et coquelicot
CATEGORIES:Massages
ATTACH;FMTTYPE=image/jpeg:https://bohemeetcoquelicot.fr/wp-content/uploads/2024/09/Visage-coul314-scaled.jpg
END:VEVENT
BEGIN:VEVENT
DTSTART;TZID=Europe/Paris:20250129T100000
DTEND;TZID=Europe/Paris:20250129T120000
DTSTAMP:20260425T015859
CREATED:20250127T145433Z
LAST-MODIFIED:20250127T145433Z
UID:1511-1738144800-1738152000@bohemeetcoquelicot.fr
SUMMARY:ATELIER AUTOMASSAGES
DESCRIPTION:Post emensos insuperabilis expeditionis eventus languentibus partium animis\, quas periculorum varietas fregerat et laborum\, nondum tubarum cessante clangore vel milite locato per stationes hibernas\, fortunae saevientis procellae
URL:https://bohemeetcoquelicot.fr/agenda/atelier-automassages/
CATEGORIES:Automassages
ATTACH;FMTTYPE=image/jpeg:https://bohemeetcoquelicot.fr/wp-content/uploads/2024/09/Visage-scaled.jpg
END:VEVENT
END:VCALENDAR